BEGIN:VCALENDAR
VERSION:2.0
PRODID:-//Department Of Education//9bba62a8-742f-4855-ba8e-3993f7a2eb2e
BEGIN:VTIMEZONE
TZID:Australia/Sydney
TZURL:http://tzurl.org/zoneinfo-outlook/Australia/Sydney
X-LIC-LOCATION:Australia/Sydney
BEGIN:STANDARD
TZOFFSETFROM:+1100
TZOFFSETTO:+1000
TZNAME:AEST
DTSTART:19700405T030000
RRULE:FREQ=YEARLY;BYMONTH=4;BYDAY=1SU
END:STANDARD
BEGIN:DAYLIGHT
TZOFFSETFROM:+1000
TZOFFSETTO:+1100
TZNAME:AEDT
DTSTART:19701004T020000
RRULE:FREQ=YEARLY;BYMONTH=10;BYDAY=1SU
END:DAYLIGHT
END:VTIMEZONE
CALSCALE:GREGORIAN
X-WR-TIMEZONE:Australia/Sydney
BEGIN:VEVENT
DTSTART;VALUE=DATE:20200302
DTEND;VALUE=DATE:20200303
DTSTAMP:20200302T000000Z
UID:761d9939-55b3-41a7-ac2a-b7d196b74b57
LOCATION:TPPS Hall
SUMMARY;LANGUAGE=en-us:A Case of Discovery - Education Interactive
SEQUENCE:0
DESCRIPTION:This is a wonderful program which all students will enjoy immensely. Times are: 3/4I, 3/4R and 2/3C (Yr 3 only) - Morning session 5/6E, 5/6H and 5/6F - Mid session 5/6C, 3/4H and 3/4C - Afternoon session
END:VEVENT
TRANSP:TRANSPARENT
END:VCALENDAR
