BEGIN:VCALENDAR
VERSION:2.0
PRODID:-//Department Of Education//ccb6d9da-0296-4049-a51d-fbdc213524a7
BEGIN:VTIMEZONE
TZID:Australia/Sydney
TZURL:http://tzurl.org/zoneinfo-outlook/Australia/Sydney
X-LIC-LOCATION:Australia/Sydney
BEGIN:STANDARD
TZOFFSETFROM:+1100
TZOFFSETTO:+1000
TZNAME:AEST
DTSTART:19700405T030000
RRULE:FREQ=YEARLY;BYMONTH=4;BYDAY=1SU
END:STANDARD
BEGIN:DAYLIGHT
TZOFFSETFROM:+1000
TZOFFSETTO:+1100
TZNAME:AEDT
DTSTART:19701004T020000
RRULE:FREQ=YEARLY;BYMONTH=10;BYDAY=1SU
END:DAYLIGHT
END:VTIMEZONE
CALSCALE:GREGORIAN
X-WR-TIMEZONE:Australia/Sydney
BEGIN:VEVENT
DTSTART;VALUE=DATE:20200305
DTEND;VALUE=DATE:20200306
DTSTAMP:20200305T000000Z
UID:2916205d-f3a5-4036-a202-077d70ddabd9
LOCATION:TPPS
SUMMARY;LANGUAGE=en-us:Canteen Donation Day
SEQUENCE:0
DESCRIPTION:It would be greatly appreciated if you could donate some of the following items.  In return for each donation, students will go into a draw to win a $5.00 canteen voucher.  (One voucher per stage group will be drawn). Please this week's newsletter (Week 3 - Term 1) for items required by your child's year level.
END:VEVENT
TRANSP:TRANSPARENT
END:VCALENDAR
