BEGIN:VCALENDAR
VERSION:2.0
PRODID:-//Department Of Education//e8ff2874-a7ae-4aa7-9758-418ab305dda9
BEGIN:VTIMEZONE
TZID:Australia/Sydney
TZURL:http://tzurl.org/zoneinfo-outlook/Australia/Sydney
X-LIC-LOCATION:Australia/Sydney
BEGIN:STANDARD
TZOFFSETFROM:+1100
TZOFFSETTO:+1000
TZNAME:AEST
DTSTART:19700405T030000
RRULE:FREQ=YEARLY;BYMONTH=4;BYDAY=1SU
END:STANDARD
BEGIN:DAYLIGHT
TZOFFSETFROM:+1000
TZOFFSETTO:+1100
TZNAME:AEDT
DTSTART:19701004T020000
RRULE:FREQ=YEARLY;BYMONTH=10;BYDAY=1SU
END:DAYLIGHT
END:VTIMEZONE
CALSCALE:GREGORIAN
X-WR-TIMEZONE:Australia/Sydney
BEGIN:VEVENT
DTSTART;VALUE=DATE:20200318
DTEND;VALUE=DATE:20200319
DTSTAMP:20200318T000000Z
UID:67174107-b237-4a40-91c3-8144f281a97a
LOCATION:TPPS
SUMMARY;LANGUAGE=en-us:ORDERS CLOSE - Photographs - Induction Ceremony & Swimming Carnival
SEQUENCE:0
DESCRIPTION:Hope you enjoy!
END:VEVENT
TRANSP:TRANSPARENT
END:VCALENDAR
