BEGIN:VCALENDAR
VERSION:2.0
PRODID:-//Department Of Education//ddfaadbc-d3fe-415e-aba5-5748dc6a7e24
BEGIN:VTIMEZONE
TZID:Australia/Sydney
TZURL:http://tzurl.org/zoneinfo-outlook/Australia/Sydney
X-LIC-LOCATION:Australia/Sydney
BEGIN:STANDARD
TZOFFSETFROM:+1100
TZOFFSETTO:+1000
TZNAME:AEST
DTSTART:19700405T030000
RRULE:FREQ=YEARLY;BYMONTH=4;BYDAY=1SU
END:STANDARD
BEGIN:DAYLIGHT
TZOFFSETFROM:+1000
TZOFFSETTO:+1100
TZNAME:AEDT
DTSTART:19701004T020000
RRULE:FREQ=YEARLY;BYMONTH=10;BYDAY=1SU
END:DAYLIGHT
END:VTIMEZONE
CALSCALE:GREGORIAN
X-WR-TIMEZONE:Australia/Sydney
BEGIN:VEVENT
DTSTART;TZID=Australia/Sydney:20200311T190000
DTEND;TZID=Australia/Sydney:20200311T210000
DTSTAMP:20200311T000000Z
UID:784fa0c0-b81f-47c9-b19b-8778bf5a2aea
LOCATION:TPPS Staffroom
SUMMARY;LANGUAGE=en-us:P & C Meeting plus AGM
SEQUENCE:0
DESCRIPTION:All welcome!
END:VEVENT
TRANSP:TRANSPARENT
END:VCALENDAR
