BEGIN:VCALENDAR
VERSION:2.0
PRODID:-//Department Of Education//f172cca1-6f07-48a6-a8da-e7c5b8fe65b4
BEGIN:VTIMEZONE
TZID:Australia/Sydney
TZURL:http://tzurl.org/zoneinfo-outlook/Australia/Sydney
X-LIC-LOCATION:Australia/Sydney
BEGIN:STANDARD
TZOFFSETFROM:+1100
TZOFFSETTO:+1000
TZNAME:AEST
DTSTART:19700405T030000
RRULE:FREQ=YEARLY;BYMONTH=4;BYDAY=1SU
END:STANDARD
BEGIN:DAYLIGHT
TZOFFSETFROM:+1000
TZOFFSETTO:+1100
TZNAME:AEDT
DTSTART:19701004T020000
RRULE:FREQ=YEARLY;BYMONTH=10;BYDAY=1SU
END:DAYLIGHT
END:VTIMEZONE
CALSCALE:GREGORIAN
X-WR-TIMEZONE:Australia/Sydney
BEGIN:VEVENT
DTSTART;VALUE=DATE:20200324
DTEND;VALUE=DATE:20200325
DTSTAMP:20200324T000000Z
UID:7e1079cc-b986-4804-b045-66371fa19b56
LOCATION:TPPS
SUMMARY;LANGUAGE=en-us:School Photographs
SEQUENCE:0
DESCRIPTION:More information will be sent home closer to the date!
END:VEVENT
TRANSP:TRANSPARENT
END:VCALENDAR
