BEGIN:VCALENDAR
VERSION:2.0
PRODID:-//Department Of Education//a5ff5907-483d-41a1-a9d2-c62cc072f844
BEGIN:VTIMEZONE
TZID:Australia/Sydney
TZURL:http://tzurl.org/zoneinfo-outlook/Australia/Sydney
X-LIC-LOCATION:Australia/Sydney
BEGIN:STANDARD
TZOFFSETFROM:+1100
TZOFFSETTO:+1000
TZNAME:AEST
DTSTART:19700405T030000
RRULE:FREQ=YEARLY;BYMONTH=4;BYDAY=1SU
END:STANDARD
BEGIN:DAYLIGHT
TZOFFSETFROM:+1000
TZOFFSETTO:+1100
TZNAME:AEDT
DTSTART:19701004T020000
RRULE:FREQ=YEARLY;BYMONTH=10;BYDAY=1SU
END:DAYLIGHT
END:VTIMEZONE
CALSCALE:GREGORIAN
X-WR-TIMEZONE:Australia/Sydney
BEGIN:VEVENT
DTSTART;VALUE=DATE:20200402
DTEND;VALUE=DATE:20200403
DTSTAMP:20200402T000000Z
UID:f05c65bb-1e32-4d82-a86c-b20433bedef8
LOCATION:TPPS
SUMMARY;LANGUAGE=en-us:P & C Colour Run
SEQUENCE:0
DESCRIPTION:Sponsorship Forms have gone home today (26/2) the all children.
END:VEVENT
TRANSP:TRANSPARENT
END:VCALENDAR
